BEGIN:VCALENDAR
VERSION:2.0
PRODID:-//Tukios.com/
BEGIN:VEVENT
UID:f565f235-f1a9-4e8f-b5e2-97b9b01765df@www.carterfuneral.net
DTSTAMP:20260421T183341Z
DTSTART:20260426
SUMMARY:Burial
DESCRIPTION:
URL:https://www.carterfuneral.net/obituaries/priscilla-lewis
LOCATION: 1468 Fayetteville Road  Rockingham NC 28379
GEO:34.9462168;-79.7537231
END:VEVENT
END:VCALENDAR