BEGIN:VCALENDAR
VERSION:2.0
PRODID:-//Tukios.com/
BEGIN:VEVENT
UID:e15c7f24-7a1a-49be-af43-725777a7bc67@www.carterfuneral.net
DTSTAMP:20260421T183548Z
DTSTART:20260426T190000Z
DTEND:20260426T200000Z
SUMMARY:Funeral Service
DESCRIPTION:
URL:https://www.carterfuneral.net/obituaries/priscilla-lewis
LOCATION: 705 S. Carolina St.  Rockingham NC 28379
GEO:34.9459773;-79.7611485
END:VEVENT
END:VCALENDAR