BEGIN:VCALENDAR
VERSION:2.0
PRODID:-//Tukios.com/
BEGIN:VEVENT
UID:80f28ff0-8958-477d-85d4-87149b598c16@www.carterfuneral.net
DTSTAMP:20260421T184137Z
DTSTART:20260426T174500Z
DTEND:20260426T184500Z
SUMMARY:Visitation
DESCRIPTION:
URL:https://www.carterfuneral.net/obituaries/priscilla-lewis
LOCATION: 705 S Caroline St  Rockingham NC 28379
GEO:34.9283074;-79.7762147
END:VEVENT
END:VCALENDAR