BEGIN:VCALENDAR
VERSION:2.0
PRODID:-//Tukios.com/
BEGIN:VEVENT
UID:44bf7c94-7dd9-4d80-8fb9-7c90c1576861@www.carterfuneral.net
DTSTAMP:20260422T195604Z
DTSTART:20260424T160000Z
DTEND:20260424T170000Z
SUMMARY:Funeral Service
DESCRIPTION:
URL:https://www.carterfuneral.net/obituaries/mary-carbary
LOCATION:Pine Grove Baptist Church 275 Airport Road  Rockingham NC 28379
GEO:34.9131063;-79.7676082
END:VEVENT
END:VCALENDAR