BEGIN:VCALENDAR
VERSION:2.0
PRODID:-//Tukios.com/
BEGIN:VEVENT
UID:e37dba5e-7142-404a-9fe5-5735bb9be39e@www.carterfuneral.net
DTSTAMP:20260422T194746Z
DTSTART:20260423T220000Z
DTEND:20260424T000000Z
SUMMARY:Visitation
DESCRIPTION:
URL:https://www.carterfuneral.net/obituaries/mary-carbary
LOCATION:Carter Funeral Home 705 South Caroline Street  Rockingham NC 
	28379
GEO:34.9283074;-79.7762147
END:VEVENT
END:VCALENDAR